BEGIN:VCALENDAR
VERSION:2.0
PRODID:-//Department Of Education//52387e23-12f5-492c-ba35-11d67a79be8c
BEGIN:VTIMEZONE
TZID:Australia/Sydney
TZURL:http://tzurl.org/zoneinfo-outlook/Australia/Sydney
X-LIC-LOCATION:Australia/Sydney
BEGIN:STANDARD
TZOFFSETFROM:+1100
TZOFFSETTO:+1000
TZNAME:AEST
DTSTART:19700405T030000
RRULE:FREQ=YEARLY;BYMONTH=4;BYDAY=1SU
END:STANDARD
BEGIN:DAYLIGHT
TZOFFSETFROM:+1000
TZOFFSETTO:+1100
TZNAME:AEDT
DTSTART:19701004T020000
RRULE:FREQ=YEARLY;BYMONTH=10;BYDAY=1SU
END:DAYLIGHT
END:VTIMEZONE
CALSCALE:GREGORIAN
X-WR-TIMEZONE:Australia/Sydney
BEGIN:VEVENT
DTSTART;TZID=Australia/Sydney:20190730T083059
DTEND;TZID=Australia/Sydney:20190730T150008
DTSTAMP:20190730T000000Z
UID:6c103b54-3ee9-4358-9c8e-e21eabd1a0ea
LOCATION:RBA - Martin Place 
SUMMARY;LANGUAGE=en-us:The Reserve Bank of Australia 
SEQUENCE:0
DESCRIPTION:Year 11 - The Reserve Bank of Australia  -  Martin Place Depart from Blacktown station 8:30am Return to Blacktown station 3pm Fulll School Uniform Opal card fee on the day    
END:VEVENT
TRANSP:TRANSPARENT
END:VCALENDAR
