BEGIN:VCALENDAR
VERSION:2.0
PRODID:-//Department Of Education//6a28b74b-d4b3-4ada-b1dc-35e78db3f981
BEGIN:VTIMEZONE
TZID:Australia/Sydney
TZURL:http://tzurl.org/zoneinfo-outlook/Australia/Sydney
X-LIC-LOCATION:Australia/Sydney
BEGIN:STANDARD
TZOFFSETFROM:+1100
TZOFFSETTO:+1000
TZNAME:AEST
DTSTART:19700405T030000
RRULE:FREQ=YEARLY;BYMONTH=4;BYDAY=1SU
END:STANDARD
BEGIN:DAYLIGHT
TZOFFSETFROM:+1000
TZOFFSETTO:+1100
TZNAME:AEDT
DTSTART:19701004T020000
RRULE:FREQ=YEARLY;BYMONTH=10;BYDAY=1SU
END:DAYLIGHT
END:VTIMEZONE
CALSCALE:GREGORIAN
X-WR-TIMEZONE:Australia/Sydney
BEGIN:VEVENT
DTSTART;VALUE=DATE:20190722
DTEND;VALUE=DATE:20190723
DTSTAMP:20190722T000000Z
UID:2479275c-0b54-46f5-933e-398d43272cb6
LOCATION:School
SUMMARY;LANGUAGE=en-us:School Development Day 
SEQUENCE:0
DESCRIPTION:Glenwood High School Develpoment Day Yrs 7- 11 students do not school today, they will commence school on Tuesday 23rd July.   Year 12 students will commence their HSC Trials today 
END:VEVENT
TRANSP:TRANSPARENT
END:VCALENDAR
