BEGIN:VCALENDAR
VERSION:2.0
PRODID:-//Department Of Education//f9844bde-1f13-4535-9cef-96620ba3f055
BEGIN:VTIMEZONE
TZID:Australia/Sydney
TZURL:http://tzurl.org/zoneinfo-outlook/Australia/Sydney
X-LIC-LOCATION:Australia/Sydney
BEGIN:STANDARD
TZOFFSETFROM:+1100
TZOFFSETTO:+1000
TZNAME:AEST
DTSTART:19700405T030000
RRULE:FREQ=YEARLY;BYMONTH=4;BYDAY=1SU
END:STANDARD
BEGIN:DAYLIGHT
TZOFFSETFROM:+1000
TZOFFSETTO:+1100
TZNAME:AEDT
DTSTART:19701004T020000
RRULE:FREQ=YEARLY;BYMONTH=10;BYDAY=1SU
END:DAYLIGHT
END:VTIMEZONE
CALSCALE:GREGORIAN
X-WR-TIMEZONE:Australia/Sydney
BEGIN:VEVENT
DTSTART;TZID=Australia/Sydney:20190703T190009
DTEND;TZID=Australia/Sydney:20190703T210018
DTSTAMP:20190703T000000Z
UID:6b5f5c63-55cc-4199-a928-d0ec97eb9b14
LOCATION:School Premises
SUMMARY;LANGUAGE=en-us:P & C Meeting 
SEQUENCE:0
DESCRIPTION:P & C Meeting 7pm Onwards All Welcome  
END:VEVENT
TRANSP:TRANSPARENT
END:VCALENDAR
