BEGIN:VCALENDAR
VERSION:2.0
PRODID:-//Department Of Education//29f93903-64aa-4385-a197-dc8845d177be
BEGIN:VTIMEZONE
TZID:Australia/Sydney
TZURL:http://tzurl.org/zoneinfo-outlook/Australia/Sydney
X-LIC-LOCATION:Australia/Sydney
BEGIN:STANDARD
TZOFFSETFROM:+1100
TZOFFSETTO:+1000
TZNAME:AEST
DTSTART:19700405T030000
RRULE:FREQ=YEARLY;BYMONTH=4;BYDAY=1SU
END:STANDARD
BEGIN:DAYLIGHT
TZOFFSETFROM:+1000
TZOFFSETTO:+1100
TZNAME:AEDT
DTSTART:19701004T020000
RRULE:FREQ=YEARLY;BYMONTH=10;BYDAY=1SU
END:DAYLIGHT
END:VTIMEZONE
CALSCALE:GREGORIAN
X-WR-TIMEZONE:Australia/Sydney
BEGIN:VEVENT
DTSTART;VALUE=DATE:20190705
DTEND;VALUE=DATE:20190706
DTSTAMP:20190705T000000Z
UID:d6342ae9-f611-489a-8e0a-b67de6576e70
LOCATION:School 
SUMMARY;LANGUAGE=en-us:Last Day of Term 2
SEQUENCE:0
DESCRIPTION:Last Day of Term 2  
END:VEVENT
TRANSP:TRANSPARENT
END:VCALENDAR
