BEGIN:VCALENDAR
VERSION:2.0
PRODID:-//Department Of Education//b3b08a92-243e-41fc-bb3e-198c5f16c05c
BEGIN:VTIMEZONE
TZID:Australia/Sydney
TZURL:http://tzurl.org/zoneinfo-outlook/Australia/Sydney
X-LIC-LOCATION:Australia/Sydney
BEGIN:STANDARD
TZOFFSETFROM:+1100
TZOFFSETTO:+1000
TZNAME:AEST
DTSTART:19700405T030000
RRULE:FREQ=YEARLY;BYMONTH=4;BYDAY=1SU
END:STANDARD
BEGIN:DAYLIGHT
TZOFFSETFROM:+1000
TZOFFSETTO:+1100
TZNAME:AEDT
DTSTART:19701004T020000
RRULE:FREQ=YEARLY;BYMONTH=10;BYDAY=1SU
END:DAYLIGHT
END:VTIMEZONE
CALSCALE:GREGORIAN
X-WR-TIMEZONE:Australia/Sydney
BEGIN:VEVENT
DTSTART;VALUE=DATE:20190722
DTEND;VALUE=DATE:20190803
DTSTAMP:20190722T000000Z
UID:27cb59c9-c020-4d3e-a4f7-e3d9c22a8335
LOCATION:School Hall
SUMMARY;LANGUAGE=en-us:HSC Trials 
SEQUENCE:0
DESCRIPTION:HSC Trials Trials will commence Monday 22 July  
END:VEVENT
TRANSP:TRANSPARENT
END:VCALENDAR
