BEGIN:VCALENDAR
VERSION:2.0
PRODID:-//Department Of Education//d87a84cd-4b40-478f-ace7-417527daf381
BEGIN:VTIMEZONE
TZID:Australia/Sydney
TZURL:http://tzurl.org/zoneinfo-outlook/Australia/Sydney
X-LIC-LOCATION:Australia/Sydney
BEGIN:STANDARD
TZOFFSETFROM:+1100
TZOFFSETTO:+1000
TZNAME:AEST
DTSTART:19700405T030000
RRULE:FREQ=YEARLY;BYMONTH=4;BYDAY=1SU
END:STANDARD
BEGIN:DAYLIGHT
TZOFFSETFROM:+1000
TZOFFSETTO:+1100
TZNAME:AEDT
DTSTART:19701004T020000
RRULE:FREQ=YEARLY;BYMONTH=10;BYDAY=1SU
END:DAYLIGHT
END:VTIMEZONE
CALSCALE:GREGORIAN
X-WR-TIMEZONE:Australia/Sydney
BEGIN:VEVENT
DTSTART;TZID=Australia/Sydney:20190525T070054
DTEND;TZID=Australia/Sydney:20190525T133000
DTSTAMP:20190525T000000Z
UID:18594aa6-9226-4d74-b47e-fabccc642f25
LOCATION:Sydney University 
SUMMARY;LANGUAGE=en-us:French Year 12 Study Skills Day
SEQUENCE:0
DESCRIPTION:  An excursion to the University of Sydney has been organised to support students? preparation for French HSC Examination   Year 12 Students will gain tips and advice from senior French HSC Teachers and Markers on the best ways to approach their studies in preparation for the HSC French Examination. Please note that the signed permission note must be returned to Ms Egic with the correct money.  We are unable to provide students with change.   Ruth Fleurant                                                                                Sonja Anderson Head Teacher                                                                                Principal  
END:VEVENT
TRANSP:TRANSPARENT
END:VCALENDAR
